View In:
ArcGIS JavaScript
ArcGIS Online Map Viewer
ArcGIS Earth
ArcGIS Pro
Service Description: <div style='text-align:Left;'><div><div><p><span>Radfahren in der RadRegionRheinlandRadfahren in der Region rund um Köln und Bonn - Herzlich willkommen in der RadRegionRheinland! Schauen Sie sich auf den Seiten der RadRegionRheinland um und planen Sie Ihre nächste Fahrradtour im Rheinland. Hier finden Sie zahlreiche Informationen rund um das Radfahren in und um Köln und Bonn. Entdecken Sie unsere beliebten Fluss-Radwege an Rhein, Sieg und Erft, erleben Sie das städtische Leben und die kulturelle Vielfalt, genießen Sie die Ruhe und Weite der ländlichen Idylle - alles nur einen Pedaltritt entfernt.Beeindruckende Panoramen, weite Horizonte, ein stetiger Wechsel zwischen Stadt und Land, zwischen Industriekultur und Zeitgeschichte. Ausgeschilderte Themenrouten, das flächendeckende Knotenpunktnetz und die Navigations-App „QuoRadis“ führen Radfahrer über bekannte und unbekannte Wege entlang von Talsperren und Tagebauen, durch historische Ortskerne, vorbei an Mühlen und Schlössern, durch Wälder und Parks, über stillgelegte Bahntrassen und Fluss-Radwege, quer durch das Land des rheinischen Frohsinns und der Gastlichkeit.Der RadRegionRheinland e.V. wird von den Tourismusorganisationen, sowie den Städten und Kreisen im Rheinland getragen und gefördert.</span></p></div></div></div>
Map Name: Radwege
Legend
All Layers and Tables
Dynamic Legend
Dynamic All Layers
Layers:
Description: Radfahren in der RadRegionRheinlandRadfahren in der Region rund um Köln und Bonn - Herzlich willkommen in der RadRegionRheinland! Schauen Sie sich auf den Seiten der RadRegionRheinland um und planen Sie Ihre nächste Fahrradtour im Rheinland. Hier finden Sie zahlreiche Informationen rund um das Radfahren in und um Köln und Bonn. Entdecken Sie unsere beliebten Fluss-Radwege an Rhein, Sieg und Erft, erleben Sie das städtische Leben und die kulturelle Vielfalt, genießen Sie die Ruhe und Weite der ländlichen Idylle - alles nur einen Pedaltritt entfernt.Beeindruckende Panoramen, weite Horizonte, ein stetiger Wechsel zwischen Stadt und Land, zwischen Industriekultur und Zeitgeschichte. Ausgeschilderte Themenrouten, das flächendeckende Knotenpunktnetz und die Navigations-App „QuoRadis“ führen Radfahrer über bekannte und unbekannte Wege entlang von Talsperren und Tagebauen, durch historische Ortskerne, vorbei an Mühlen und Schlössern, durch Wälder und Parks, über stillgelegte Bahntrassen und Fluss-Radwege, quer durch das Land des rheinischen Frohsinns und der Gastlichkeit.Der RadRegionRheinland e.V. wird von den Tourismusorganisationen, sowie den Städten und Kreisen im Rheinland getragen und gefördert.
Service Item Id: 0981e9458d5b4da0b2b7bf103c79c150
Copyright Text: © GIS Rheinisch-Bergischer Kreis
Spatial Reference:
102100
(3857)
LatestVCSWkid(0)
Single Fused Map Cache: true
Tile Info:
- Height: 256.0
- Width: 256.0
- DPI: 96.0
-
Levels of Detail: 24
-
Level ID: 1
[ Start Tile, End Tile ]
- Resolution: 78271.5169639999
- Scale: 2.95828763795777E8
-
Level ID: 2
[ Start Tile, End Tile ]
- Resolution: 39135.7584820001
- Scale: 1.47914381897889E8
-
Level ID: 3
[ Start Tile, End Tile ]
- Resolution: 19567.8792409999
- Scale: 7.3957190948944E7
-
Level ID: 4
[ Start Tile, End Tile ]
- Resolution: 9783.93962049996
- Scale: 3.6978595474472E7
-
Level ID: 5
[ Start Tile, End Tile ]
- Resolution: 4891.96981024998
- Scale: 1.8489297737236E7
- Format: PNG
- Compression Quality: 0.0
- Origin: X: -2.0037508342787E7
Y: 2.0037508342787E7
- Spatial Reference: 102100
(3857)
LatestVCSWkid(0)
Storage Info:
- Storage Format: esriMapCacheStorageModeCompactV2
- Packet Size: 128
Initial Extent:
XMin: 788484.497980822
YMin: 6608679.483097475
XMax: 800832.7424296226
YMax: 6620034.190636601
Spatial Reference: 102100
(3857)
LatestVCSWkid(0)
Full Extent:
XMin: -4013286.062853994
YMin: -3.0240971958386146E7
XMax: 6017008.068477559
YMax: 3.024097195838615E7
Spatial Reference: 102100
(3857)
LatestVCSWkid(0)
Units: esriMeters
Supported Image Format Types: PNG32,PNG24,PNG,JPG,DIB,TIFF,EMF,PS,PDF,GIF,SVG,SVGZ,BMP
Document Info:
Title: Radwege Bergisches Fahrradland
Author:
Comments: Radfahren in der RadRegionRheinlandRadfahren in der Region rund um Köln und Bonn - Herzlich willkommen in der RadRegionRheinland! Schauen Sie sich auf den Seiten der RadRegionRheinland um und planen Sie Ihre nächste Fahrradtour im Rheinland. Hier finden Sie zahlreiche Informationen rund um das Radfahren in und um Köln und Bonn. Entdecken Sie unsere beliebten Fluss-Radwege an Rhein, Sieg und Erft, erleben Sie das städtische Leben und die kulturelle Vielfalt, genießen Sie die Ruhe und Weite der ländlichen Idylle - alles nur einen Pedaltritt entfernt.Beeindruckende Panoramen, weite Horizonte, ein stetiger Wechsel zwischen Stadt und Land, zwischen Industriekultur und Zeitgeschichte. Ausgeschilderte Themenrouten, das flächendeckende Knotenpunktnetz und die Navigations-App „QuoRadis“ führen Radfahrer über bekannte und unbekannte Wege entlang von Talsperren und Tagebauen, durch historische Ortskerne, vorbei an Mühlen und Schlössern, durch Wälder und Parks, über stillgelegte Bahntrassen und Fluss-Radwege, quer durch das Land des rheinischen Frohsinns und der Gastlichkeit.Der RadRegionRheinland e.V. wird von den Tourismusorganisationen, sowie den Städten und Kreisen im Rheinland getragen und gefördert.
Subject: Radfahrnetz im Bergischen Land mit der der RadregionRheinland
Category:
Keywords: RRR,Bergisches Fahrradland,Naturpark BergischLand,Regionale 2025,Bergisches Rheinland
AntialiasingMode: Fast
TextAntialiasingMode: Force
Supports Dynamic Layers: true
MaxRecordCount: 2000
MaxSelectionCount: 2000
MaxImageHeight: 4096
MaxImageWidth: 4096
Supported Query Formats: JSON, geoJSON, PBF
Supports Query Data Elements: true
Min Scale: 3.6978595474472E7
Max Scale: 4513.988705
Supports Datum Transformation: true
Child Resources:
Info
Dynamic Layer
Supported Operations:
Export Map
Identify
QueryLegends
QueryDomains
Find
Return Updates